BEGIN:VCALENDAR
VERSION:2.0
PRODID:-//ical.marudot.com//iCal Event Maker
CALSCALE:GREGORIAN
BEGIN:VTIMEZONE
TZID:America/Mexico_City
LAST-MODIFIED:20240422T053451Z
TZURL:https://www.tzurl.org/zoneinfo-outlook/America/Mexico_City
X-LIC-LOCATION:America/Mexico_City
BEGIN:STANDARD
TZNAME:CST
TZOFFSETFROM:-0600
TZOFFSETTO:-0600
DTSTART:19700101T000000
END:STANDARD
END:VTIMEZONE
BEGIN:VEVENT
DTSTAMP:20250807T062357Z
UID:1754547806230-81102@ical.marudot.com
DTSTART;TZID=America/Mexico_City:20251026T180000
DTEND;TZID=America/Mexico_City:20251027T000000
SUMMARY:Boda Karla y Luis
LOCATION:Las Nubes Eventos\, Carretera Nacional\, 67318 Santiago\, N.L.
END:VEVENT
END:VCALENDAR